BEGIN:VCALENDAR
VERSION:2.0
PRODID:-//PENG - Gesellschaft zur Förderung von Design, Kunst und Kommunikation//NONSGML v1.0//EN
CALSCALE:GREGORIAN
METHOD:PUBLISH
X-WR-CALNAME:PENG - Gesellschaft zur Förderung von Design, Kunst und Kommunikation
X-ORIGINAL-URL:https://www.pengland.de
X-WR-CALDESC:Events for PENG - Gesellschaft zur Förderung von Design, Kunst und Kommunikation
BEGIN:VEVENT
DTSTART;VALUE=DATE-TIME:20190412T192500
DTEND;VALUE=DATE-TIME:20190412T225500
DTSTAMP:20260422T120312
CREATED:20190329T101317
LAST-MODIFIED:20190409T193735
UID:24883@https://www.pengland.de
SUMMARY:Tanzen & Tönen
DESCRIPTION:FB-Link    Einfach mal den Kopf ausschalten und den Körper frei in Bewegung kommen lassen. Der Intuition folgen und nicht bewerten. Mit Achtsamkeit wahrnehmen\, ohne zu streben\, offen sein\, für jede Transition die kommt\, Impulse weitertragen\, sich inspirieren lassen um für 120 Minuten im Flow zu sein.    Zunächst tönen wir\, anschließend sorgt die Musik für die nötigen Impulse. Auch deine eigenen Gefühle oder die Bewegungen anderer\, bestimmen wo deine persönliche Reise hingeht. Die Musik gleicht einer Welle\, die sich langsam aufbaut und von einem runden und fließenden Einstieg\, über scharfe Passagen\, wilde Extase und poetischen Sebstausdruck\, hinein in die Stille verläuft.    Währrenddem bist du völlig frei. Alles kann\, aber nichts muss passieren. Wenn dir danach ist\, kannst du dich jederzeit aus dem Geschehen herausziehen und es dir in unserer Chillecke bequem machen. Ihr seid eingeladen und in euren bequemsten Klamotten zu kommen und eure Schuhe auszuziehen.  Der Tanz findet in der großen Halle im Pengland statt. Für kalte Getränke und Tee ist gesorgt. Die Musik wird von Jonas Hühne von Mach Mal Langsam gemixt. Eintritt &amp; Teilnahme frei. Spenden willkommen!    TANZ MAL LANGSAM!
LOCATION:Weisenauer Straße 15
URL:https://www.pengland.de/event/tanzen-tonen/
END:VEVENT
END:VCALENDAR