BEGIN:VCALENDAR
VERSION:2.0
PRODID:-//PENG - Gesellschaft zur Förderung von Design, Kunst und Kommunikation//NONSGML v1.0//EN
CALSCALE:GREGORIAN
METHOD:PUBLISH
X-WR-CALNAME:PENG - Gesellschaft zur Förderung von Design, Kunst und Kommunikation
X-ORIGINAL-URL:https://www.pengland.de
X-WR-CALDESC:Events for PENG - Gesellschaft zur Förderung von Design, Kunst und Kommunikation
BEGIN:VEVENT
DTSTART;VALUE=DATE-TIME:20161013T190000
DTEND;VALUE=DATE-TIME:20161013T210000
DTSTAMP:20260421T164028
CREATED:20161007T114700
LAST-MODIFIED:20161007T114700
UID:20718@https://www.pengland.de
SUMMARY:Story Slam in der Kulturrepublik
DESCRIPTION:Was ist ein Story Slam?   Ein Abend\, an dem  Menschen ohne Brimborium etwas erzählen\, von sich\, von ihrem Tag\, aus  ihrem Leben\, aus ihren Gedanken - witzig\, ernst\, politisch oder  skurril... ganz wie sie mögen\, 5 Minuten lang.    Nach guter  alter Slam-Manier entscheidet im Anschluss das Publikum\, wer ein zweites  Mal auf die Bühne kommt... Aber natürlich gilt 'Respect the Poet' und  'Make everybody feel welcome' – ganz besonders hier\, wo Menschen vorne  stehen und persönlich von sich erzählen.    Die Plattform  Ich-Erzähler.de lädt zusammen mit der Mainzer Kulturrepublik zu diesem  Abend ein - im wahrsten Sinne des Wortes: Da es sich um den allerersten  Story Slam in Mainz handelt\, erheben wir keinen Eintritt und freuen uns  einfach nur riiiiiesig auf die Begegnung mit den ersten Mainzer  Story-Slammern und auf das Erleben ihrer Geschichten.    Also:  anmelden\, kommen\, weitersagen! (Apropos: Wer Story-Slammer werden will\,  also gerne auftreten möchte\, der meldet sich einfach bei uns\, entweder  hier über FB oder auch gerne übers Kontaktformular auf ich-erzähler.de: http://ich-erzähler.de/contact-us/)    Mehr Infos zum Story-Slam findet ihr hier: http://ich-erzähler.de/story-slam/    http://www.facebook.com/events/1720130454922244/        
LOCATION:Gaustraße 67
URL:https://www.pengland.de/event/story-slam-in-der-kulturrepublik/
END:VEVENT
END:VCALENDAR