BEGIN:VCALENDAR
VERSION:2.0
PRODID:-//PENG - Gesellschaft zur Förderung von Design, Kunst und Kommunikation//NONSGML v1.0//EN
CALSCALE:GREGORIAN
METHOD:PUBLISH
X-WR-CALNAME:PENG - Gesellschaft zur Förderung von Design, Kunst und Kommunikation
X-ORIGINAL-URL:https://www.pengland.de
X-WR-CALDESC:Events for PENG - Gesellschaft zur Förderung von Design, Kunst und Kommunikation
BEGIN:VEVENT
DTSTART;VALUE=DATE-TIME:20161005T200000
DTEND;VALUE=DATE-TIME:20161005T230000
DTSTAMP:20260421T152211
CREATED:20161005T155832
LAST-MODIFIED:20161005T170750
UID:20659@https://www.pengland.de
SUMMARY:SCIENCE BUSTERS: Bierstern, ich dich grüße u.a.
DESCRIPTION:    SCIENCE BUSTERS - Das neue Programm ab Herbst 2016    Premiere im Frankfurter Hof!      Bierstern\, ich dich grüße - über Vollmondbier\, Komasaufen bei Kometen und wie   man Photonen betrunken macht   MC Martin Puntigam\, Dr. Florian Freistetter\, Univ.-Prof. Helmut Jungwirth und die Welt der  Naturwissenschaft  Ob Weitspeiben beim Oktoberfest\, physikalisch richtiges Nüsseknacken oder Steppen auf  der Schweinsbratenkruste\, wenn es darum geht\, Essen und Trinken im Angesicht der  Naturgesetze gütlich zu vermählen\, dann sind die Science Busters eine der ersten  Adressen. Selbstverständlich universumsweit.  Diesmal wenden sich die naturwissenschaftlichen Wonneproppen dem Bier zu\, das dieser  Tage vermutlich seinen bereits mindestens zirka 9.000 Geburtstag feiert. Herzlichen  Glückwunsch und die Science Busters feiern mit!  Science Blogger &amp; Astronom Dr. Florian Freistetter\, Prof. Dr. Helmut Jungwirth  (Mikrobiologie\, Uni Graz) und Martin Puntigam (Kabarettist\, Master of Ceremony &amp; seit  kurzem frisch gebackener Univ.-Lektor an der Uni Graz) erklären wie Vorglühen bei  Hefepilzen ausschaut\, in welcher Galaxie man einen Bierstern findet und ab wie viel  alkoholfreien Bieren man nicht mehr Autofahren darf.  Mit Live Hang-over! Live – VJing: Roman Hansi/Ben Pokropek/Leo Pokropek  Wissenschaft für alle. Farbenfroh\, lehrreich und unterhaltsam! Denn: Topwissenschaft und  Spitzenhumor müssen keine Feinde sein.   Science Busters – wer nichts weiß\, muss alles glauben  www.sciencebusters.at  http://www.facebook.com/sciencebusters  http://fm4.orf.at/sciencebusters
LOCATION:Augustinerstraße 55
URL:https://www.pengland.de/event/science-busters-bierstern-ich-dich-gruse-%e2%80%93-vollmondbier-wie-man-photonen-betrunken-macht-u-a/
END:VEVENT
END:VCALENDAR