BEGIN:VCALENDAR
VERSION:2.0
PRODID:-//PENG - Gesellschaft zur Förderung von Design, Kunst und Kommunikation//NONSGML v1.0//EN
CALSCALE:GREGORIAN
METHOD:PUBLISH
X-WR-CALNAME:PENG - Gesellschaft zur Förderung von Design, Kunst und Kommunikation
X-ORIGINAL-URL:https://www.pengland.de
X-WR-CALDESC:Events for PENG - Gesellschaft zur Förderung von Design, Kunst und Kommunikation
BEGIN:VEVENT
DTSTART;VALUE=DATE:20190530
DTEND;VALUE=DATE:20190611
DTSTAMP:20260424T080338
CREATED:20190501T181453
LAST-MODIFIED:20190501T183733
UID:24961@https://www.pengland.de
SUMMARY:Schichtwechsel
DESCRIPTION:Gruppenausstellung in der Reihe „HOME IS WHERE MY ART IS“     Überarbeitungen vorhandener Werke wie mit den Mitteln der Malerei\, der Zeichnung\, Collage\, Video und Schrift\, analog und digital mit Nicola Barth\, Anna Bieler\, Helmut van der Buchholz\, Stefan Budian\, Jos Diegel\, DeDe Handon\, Albert Herbig\, Hötsch Höhle\, Hundefaenger KRD\, Stéphane Jeanneau\, Kerstin Lichtblau\, malatsion\, Veronika Olma\, Sabine Rollnik\, Johannes Schebler\, Elke Tamarelke.    Vernissage Donnerstag 30. Mai 19:30Uhr  Performance: Sigtryggur Berg Sigmarsson  Konzert: Materialeinschüchterung    weitere Öffnungszeiten bis 22. Juli 2019:  montags\, freitags\, samstags 16-20Uhr    
LOCATION:Neubrunnenstraße 8
URL:https://www.pengland.de/event/schichtwechsel/
END:VEVENT
END:VCALENDAR