BEGIN:VCALENDAR
VERSION:2.0
PRODID:-//PENG - Gesellschaft zur Förderung von Design, Kunst und Kommunikation//NONSGML v1.0//EN
CALSCALE:GREGORIAN
METHOD:PUBLISH
X-WR-CALNAME:PENG - Gesellschaft zur Förderung von Design, Kunst und Kommunikation
X-ORIGINAL-URL:https://www.pengland.de
X-WR-CALDESC:Events for PENG - Gesellschaft zur Förderung von Design, Kunst und Kommunikation
BEGIN:VEVENT
DTSTART;VALUE=DATE:20190809
DTEND;VALUE=DATE:20190812
DTSTAMP:20260422T125843
CREATED:20190619T204730
LAST-MODIFIED:20190704T213447
UID:25108@https://www.pengland.de
SUMMARY:Pferdefest 2019
DESCRIPTION:    Pferdefest 2019   09. - 11. August 2019 / Piesport (Mosel)    Line-Up:  Shacke One (Nordachse Cashgroup)\, Alarmsignal\, STEAM DOWN\, Hush Moss\, Iorie (live)\, KENTA HAYASHI\, MENEO\, Chinaski in Space\, Acid Knarf Rellöm (A Tribe Called Knarf)\, Young Yosef\, S&amp;W\, Prongof108\, Hagbard Celine\, Ugly Species\, mot.\, MEiNE ROCK KWiEN RiCA\, Rico and his dancing girls\, RAS\, Funky Fizzle\, Noise du Chocolat\, The Funky Monkeys\, popFred\, Hush Moss DJ Set\, Aetschy u.v.m.    *** Festivaltickets gibt's für 45\,- unter www.pferdefest.de ***        &nbsp;    
LOCATION:Karoline-Stern-Platz 
URL:https://www.pengland.de/event/pferdefest-2019/
END:VEVENT
END:VCALENDAR