BEGIN:VCALENDAR
VERSION:2.0
PRODID:-//PENG - Gesellschaft zur Förderung von Design, Kunst und Kommunikation//NONSGML v1.0//EN
CALSCALE:GREGORIAN
METHOD:PUBLISH
X-WR-CALNAME:PENG - Gesellschaft zur Förderung von Design, Kunst und Kommunikation
X-ORIGINAL-URL:https://www.pengland.de
X-WR-CALDESC:Events for PENG - Gesellschaft zur Förderung von Design, Kunst und Kommunikation
BEGIN:VEVENT
DTSTART;VALUE=DATE:20250726
DTEND;VALUE=DATE:20250727
DTSTAMP:20260422T081728
CREATED:20250713T175156
LAST-MODIFIED:20250713T175215
UID:26654@https://www.pengland.de
SUMMARY:PENG-Sommerfest am 26.07.25
DESCRIPTION:    Das PENG lädt ein: Mitmach-Sommerfest auf dem Karoline-Stern-Platz am Samstag\, 26.07. von 14 bis 22 Uhr – und du mittendrin!    Werde selbst kreativ an unserem Mitmal-Tisch\, genieß Live-Musik\, DJs und Lesungen oder schnapp dir das Mikro auf unserer offenen Bühne – Kunst ist\, was du draus machst!  Non-kommerziell &amp; offen für Alle! Ein Kooperation mit dem Kulturbäckerei e.V. &amp; Krumm&amp;Schepp e.V.  Du willst selbst künstlerisch aktiv werden und etwas beitragen? Melde dich gerne bei uns!  pengland.de | veranstaltungen@pengland.de | am K- LAB\, Karoline-Stern-Platz 11
LOCATION:Karoline-Stern-Platz 
URL:https://www.pengland.de/event/peng-sommerfest-am-26-07-25/
END:VEVENT
END:VCALENDAR