BEGIN:VCALENDAR
VERSION:2.0
PRODID:-//PENG - Gesellschaft zur Förderung von Design, Kunst und Kommunikation//NONSGML v1.0//EN
CALSCALE:GREGORIAN
METHOD:PUBLISH
X-WR-CALNAME:PENG - Gesellschaft zur Förderung von Design, Kunst und Kommunikation
X-ORIGINAL-URL:https://www.pengland.de
X-WR-CALDESC:Events for PENG - Gesellschaft zur Förderung von Design, Kunst und Kommunikation
BEGIN:VEVENT
DTSTART;VALUE=DATE:20171122
DTEND;VALUE=DATE:20171123
DTSTAMP:20260422T094717
CREATED:20171115T011750
LAST-MODIFIED:20171120T205633
UID:23233@https://www.pengland.de
SUMMARY:Pauken & Propheten #1
DESCRIPTION:WANN  22. NOVEMBER    WO  Halle 45 Mainz    PROGRAMM  19:00 Einlass / Lukas Flieger  19:30 TripAdLib  20:45 YOUNOTUS  21:45 Alle Farben  23:00 Stimming  00:30 Lukas Flieger  01:30 Ende    PREISE (Vorverkauf):  Normal: 12\,50 Euro (zzgl. Gebühren)  Studi-Ticket 10\,00 Euro (zzgl. Gebühren)  Schülerticket: 5\,00 Euro (zzgl. Gebühren)    PREISE (Abendkasse):  Normal: 17\,50 Euro  Studiticket: 12\,50 Euro  Schülerticket: 7\,50 Euro    
LOCATION:Hauptstraße 17-19
URL:https://www.pengland.de/event/pauken-propheten-1/
END:VEVENT
END:VCALENDAR