BEGIN:VCALENDAR
VERSION:2.0
PRODID:-//PENG - Gesellschaft zur Förderung von Design, Kunst und Kommunikation//NONSGML v1.0//EN
CALSCALE:GREGORIAN
METHOD:PUBLISH
X-WR-CALNAME:PENG - Gesellschaft zur Förderung von Design, Kunst und Kommunikation
X-ORIGINAL-URL:https://www.pengland.de
X-WR-CALDESC:Events for PENG - Gesellschaft zur Förderung von Design, Kunst und Kommunikation
BEGIN:VEVENT
DTSTART;VALUE=DATE:20190421
DTEND;VALUE=DATE:20190422
DTSTAMP:20260422T120155
CREATED:20190419T113606
LAST-MODIFIED:20190419T114029
UID:24950@https://www.pengland.de
SUMMARY:Morning Mode // svynx // Der Neue Planet: LIVE
DESCRIPTION:Eintritt frei - Spenden gern gesehen  FB-Event\, Einlass 18:30 / Beginn 19:00    Morning Mode  „Nicht mitzählen\, einfach Zuhören“ — das gilt bei der Progrock-/Postrock-Band Morning Mode aus Mainz und Umgebung. Die vier Musiker haben sich der Herausforderung angenommen\, verzerrte Gitarren und sphärische Klänge\, schnelle Taktwechsel und dennoch eingängige Melodien zu vereinen. Die Band verzaubert das Publikum bei Liveauftritten durch ihre energiegeladenen Shows\, in denen es an Experimentierfreude innerhalb der Songs niemals mangelt: die perfekte Mischung aus Träumen und Abrocken!    Der musikalische Stil von Morning Mode orientiert sich an Bands wie Karnivool\, Porcupine Tree\, Oceansize oder Dredg\, aber auch Tool oder Radiohead beeinflussen die Vier.    https://www.youtube.com/watch?v=mwcGCaPRn4o  https://morningmode.bandcamp.com/album/vessel    svynx  sind ein Powertrio aus Köln\, das seit 2016 in konventioneller Formation (Gitarre\, Bass\, Schlagzeug) unkonventionellen und funky-alternativen Progressive Rock zelebriert. Krumme Takte geschickt verpackt\, catchy Melodien und groovy Basslines in Kombination mit clever plazierten Vocals sorgen für eine abwechslungsreiche Liveshow in sehr dynamischem Umfang.    https://www.youtube.com/watch?v=MJLPu2LGw48  https://svynx.bandcamp.com/    Der Neue Planet  ist eine instrumentale Rockband aus Köln\, die einen eigenständigen Sti entwickeln\, indem komplexe und progressive Songstrukturen auf sphärische Soundwände treffen. Verträumte Melodien bilden den Kontrast zu drückenden Riffs und vielschichtigen Rhythmen. Verbindet die Band auf ihrer Demo EP (2016) Stoner und Postrockelemente\, so treten auf ihrem Debüt Album „Magrathea Erwacht“ (2018) verstärkt progressive und funkige Elemente in den Vordergrund. So ergibt sich eine abwechslungsreiche und dynamisches Mischung\, welche gerade live überzeugt.    https://www.youtube.com/watch?v=hCTB_CherPk  https://derneueplanet.bandcamp.com/
LOCATION:Weisenauer Straße 15
URL:https://www.pengland.de/event/morning-mode-svynx-der-neue-planet/
END:VEVENT
END:VCALENDAR