BEGIN:VCALENDAR
VERSION:2.0
PRODID:-//PENG - Gesellschaft zur Förderung von Design, Kunst und Kommunikation//NONSGML v1.0//EN
CALSCALE:GREGORIAN
METHOD:PUBLISH
X-WR-CALNAME:PENG - Gesellschaft zur Förderung von Design, Kunst und Kommunikation
X-ORIGINAL-URL:https://www.pengland.de
X-WR-CALDESC:Events for PENG - Gesellschaft zur Förderung von Design, Kunst und Kommunikation
BEGIN:VEVENT
DTSTART;VALUE=DATE-TIME:20190405T210000
DTEND;VALUE=DATE-TIME:20190405T210000
DTSTAMP:20260422T104618
CREATED:20190329T100909
LAST-MODIFIED:20190329T100957
UID:24881@https://www.pengland.de
SUMMARY:MIMIK
DESCRIPTION:&nbsp;        MIMIK möchte die Menschen mit den unterschiedlichsten elektronischen Musikrichtungen begeistern und einen Ort zu schaffen\, wo jeder seine kreativen Ideen ausleben kann. Fb-link    Sei es abstrakte Kunst\, Musik\, Fotos oder Filme die man präsentieren möchte.  Um den verschiedenen Musikgenres gerecht zu werden\, haben wir vier verschiedene Veranstaltungstypen.  MIMIK SESSION/PSY/DEEP/DARK. Jede Veranstaltung zeichnet sich durch die unterschiedlichen Musikrichtungen aus. Wir wollen zeigen wie viel schöne Musik es noch gibt außer Techno und Goa.    Unsere erste Veranstaltung heißt ‘MIMIK Session’.  In dieser Veranstaltungsreihe wollen wir Musik\, Kreativität und Kultur in Verbindung bringen. Deco spielt bei uns eine Große Rolle. Der Raum wird mit viel Orientalischer Deco sowie mit Lichttechnik versehen.  Die erste Veranstaltung soll dazu dienen\, uns und unsere Grundidee kennen zu lernen. Mit den Bekanntschaften die wir schließen bieten wir die Möglichkeit deren Potential auf den folgenden Veranstaltungen auszuleben…    Musikrichtung: Downtempo\, Techhouse\, Funk House    Uhrzeit: 21 bis 4 Uhr    Eintritt: Kostenlos
LOCATION:Weisenauer Straße 15
URL:https://www.pengland.de/event/mimik/
END:VEVENT
END:VCALENDAR