BEGIN:VCALENDAR
VERSION:2.0
PRODID:-//PENG - Gesellschaft zur Förderung von Design, Kunst und Kommunikation//NONSGML v1.0//EN
CALSCALE:GREGORIAN
METHOD:PUBLISH
X-WR-CALNAME:PENG - Gesellschaft zur Förderung von Design, Kunst und Kommunikation
X-ORIGINAL-URL:https://www.pengland.de
X-WR-CALDESC:Events for PENG - Gesellschaft zur Förderung von Design, Kunst und Kommunikation
BEGIN:VEVENT
DTSTART;VALUE=DATE-TIME:20161011T00
DTEND;VALUE=DATE-TIME:20161011T00
DTSTAMP:20260421T152617
CREATED:20161012T000517
LAST-MODIFIED:20161011T230038
UID:20673@https://www.pengland.de
SUMMARY:LifeScienceSlam in Mainz
DESCRIPTION:Wissenschaft gehört auf die Bühne: LifeScienceSlam zum 70-jährigen Jubiläum der JGU    Dass Wissenschaft auf die große Bühne gehört\, beweist der LifeScienceSlam am 28. Oktober im Frankfurter Hof Mainz.  Der Slam der Lebenswissenschaften findet im Rahmen des 70-jährigen  Jubiläums der Wiedereröffnung der Johannes Gutenberg-Universität Mainz  statt und ist eine Kooperation von Johannes Gutenberg-Universität Mainz\, Universitätsmedizin Mainz und Institute of Molecular Biology (IMB).    Im Rahmen des Jubiläums stehen NachwuchswissenschaftlerInnen der Lebenswissenschaften mit ihrer Forschung im Rampenlicht und bringen das Publikum in jeweils zehnminütigen Vorträgen auf den neuesten Forschungsstand.    Dröge Skripte und Berge von Statistiken? Von wegen! Science Slam ist  "Wissenschaft fürs Volk". Hörsaalatmosphäre? Nein\, danke! In lockerer  Umgebung überzeugen die jungen WissenschaftlerInnen ihr Publikum davon\,  wie spannend Wissenschaft sein kann. Kreativ\, unterhaltsam\, amüsant und  vor allem für jedermann verständlich präsentieren die  WissenschaftlerInnen\, woran sie teilweise seit Jahren forschen. Sie  entscheiden dabei selbst\, wie sie ihre Forschung präsentieren möchten.  Dabei sind ihnen kaum Grenzen gesetzt. Ob als Rap oder Gedicht\, im  Schneidersitz oder mit Tanzeinlage: Alles ist möglich.    Wer den besten Vortrag geliefert hat\, entscheidet am Ende keine Jury\, sondern das Publikum.    Also: Applaus\, Applaus und Slam frei beim Life Science Slam!    
LOCATION:Augustinerstrasse 55  
URL:https://www.pengland.de/event/lifescienceslam-in-mainz/
END:VEVENT
END:VCALENDAR