BEGIN:VCALENDAR
VERSION:2.0
PRODID:-//PENG - Gesellschaft zur Förderung von Design, Kunst und Kommunikation//NONSGML v1.0//EN
CALSCALE:GREGORIAN
METHOD:PUBLISH
X-WR-CALNAME:PENG - Gesellschaft zur Förderung von Design, Kunst und Kommunikation
X-ORIGINAL-URL:https://www.pengland.de
X-WR-CALDESC:Events for PENG - Gesellschaft zur Förderung von Design, Kunst und Kommunikation
BEGIN:VEVENT
DTSTART;VALUE=DATE-TIME:20190528T204500
DTEND;VALUE=DATE-TIME:20190528T235500
DTSTAMP:20260422T120545
CREATED:20190515T102225
LAST-MODIFIED:20190528T022917
UID:24997@https://www.pengland.de
SUMMARY:Letzte Runde, 28.05.
DESCRIPTION:Zum allerletzten Ma(h)l. Erinnerungen an früher werden wach.    Bringt die Picknickkörbe und -decken mit!    Genießt das letzte Offene Wohnzimmer am Standort Weisenauer Straße 15.    Peng zieht aufn Rodelberg\, richtet sich dort im Juni ein.    &nbsp;    
LOCATION:Weisenauer Straße 15
URL:https://www.pengland.de/event/letzte-runde-28-05/
END:VEVENT
END:VCALENDAR