BEGIN:VCALENDAR
VERSION:2.0
PRODID:-//PENG - Gesellschaft zur Förderung von Design, Kunst und Kommunikation//NONSGML v1.0//EN
CALSCALE:GREGORIAN
METHOD:PUBLISH
X-WR-CALNAME:PENG - Gesellschaft zur Förderung von Design, Kunst und Kommunikation
X-ORIGINAL-URL:https://www.pengland.de
X-WR-CALDESC:Events for PENG - Gesellschaft zur Förderung von Design, Kunst und Kommunikation
BEGIN:VEVENT
DTSTART;VALUE=DATE:20161105
DTEND;VALUE=DATE:20161106
DTSTAMP:20260421T193656
CREATED:20161016T221452
LAST-MODIFIED:20161017T194748
UID:20800@https://www.pengland.de
SUMMARY:Shelter from the storm
DESCRIPTION:Lesung mit Leona Stahlmann &amp; Paula Kemp  Musik: Axel Sandig      Leona Stahlmann und Paula Kemp lesen aus ihren  Romanen\, die unterschiedlicher nicht sein könnten - und im Kern doch  dasselbe Thema behandeln: Das Positionieren des eigenen Ichs zur Welt  durch einen Rückzug aus eben jener\, das auf sich zurückgeworfen sein\,  die Suche nach der eigenen Identität.  Das Setting für Stahlmanns Roman: der Schwarzwald.  Das Setting für Kemps Roman: Marokko.  Musikalisch begleitet werden die beiden von Axel Sandig.    Einlass: 18:30 Uhr  Beginn: 19:00 Uhr  Eintritt: frei  Mainzer Kulturrepublik\, Gaustraße 67\, Mainz    http://www.facebook.com/events/1096419257145866/    
LOCATION:Gaustraße 67
URL:https://www.pengland.de/event/lesung-mit-leona-stahlmann-paula-kemp/
END:VEVENT
END:VCALENDAR