BEGIN:VCALENDAR
VERSION:2.0
PRODID:-//PENG - Gesellschaft zur Förderung von Design, Kunst und Kommunikation//NONSGML v1.0//EN
CALSCALE:GREGORIAN
METHOD:PUBLISH
X-WR-CALNAME:PENG - Gesellschaft zur Förderung von Design, Kunst und Kommunikation
X-ORIGINAL-URL:https://www.pengland.de
X-WR-CALDESC:Events for PENG - Gesellschaft zur Förderung von Design, Kunst und Kommunikation
BEGIN:VEVENT
DTSTART;VALUE=DATE-TIME:20190407T150000
DTEND;VALUE=DATE-TIME:20190407T230000
DTSTAMP:20260422T120321
CREATED:20180623T120402
LAST-MODIFIED:20190329T110104
UID:24062@https://www.pengland.de
SUMMARY:Kleidertauschparty
DESCRIPTION:Diesen Sonntag gibt's wieder  Kleidertauschparty\, ab 14 Uhr    
LOCATION:Weisenauer Straße 15
URL:https://www.pengland.de/event/kleidertauschparty-3/
END:VEVENT
END:VCALENDAR