BEGIN:VCALENDAR
VERSION:2.0
PRODID:-//PENG - Gesellschaft zur Förderung von Design, Kunst und Kommunikation//NONSGML v1.0//EN
CALSCALE:GREGORIAN
METHOD:PUBLISH
X-WR-CALNAME:PENG - Gesellschaft zur Förderung von Design, Kunst und Kommunikation
X-ORIGINAL-URL:https://www.pengland.de
X-WR-CALDESC:Events for PENG - Gesellschaft zur Förderung von Design, Kunst und Kommunikation
BEGIN:VEVENT
DTSTART;VALUE=DATE:20190622
DTEND;VALUE=DATE:20190623
DTSTAMP:20260422T120438
CREATED:20190620T113826
LAST-MODIFIED:20190620T113826
UID:25116@https://www.pengland.de
SUMMARY:HFS m/ DSG, Lichtinstallation / HFS Live x Substanz Der Stadt
DESCRIPTION:Lichtinstallation im "Dark Room" der Hans From Space Ausstellung bei der Substanz Der Stadt. In Kooperation mit DSG Objects werden die Werke mittels Projection Mapping bestrahlt.    mitmachen / ab 17:00 / Offene Kunstrunde  zuhören / 20-21:00 / Hans From Space Live  zuschauen / 19:00 - 22:00 / Lichtinstallation im Dark Room    Friede\, Freude\, Pfefferminzlikör  LG\, Hans From Space *Raketicon*      ___    Substanz Der Stadt // Das Projekt    Wir sind eine Gruppe von Freunden\, die etwas zur kulturellen Gestaltung in Mainz beitragen will. Neben Studium und Beruf nahmen wir uns die Umsetzung dieser Idee vor und starteten im Juni 2018 mit dem ersten Zwischennutzung in der Neustadt.    Finanziert wird unser Projekt durch den Verkauf eigener lokal/regional produzierter Produkte\, wie unsere STARKE PFEFFERMINZE. Einnahmen bleiben im Kreislauf und dienen zur Finanzierung von Zwischennutzungen und weiteren Aktionen.  Uns ist es wichtig\, neben kreativen auch soziale und lokale Institutionen zu unterstützen. Dies geschieht in Form von Kollaborationen\, Info-Veranstaltungen und der Generierung von Spenden.    Wir wollen Mainz mitgestalten und mehr Raum für Ideen und Kultur schaffen.    —    SUBSTANZ DER STADT  Starke Pfefferminze  alc. 20\,5% vol.  500ml    Unser erstes Produkt\, ein Pfefferminzlikör\, entstand in enger Zusammenarbeit mit einer Destillerie nahe Alzey\, Rheinland-Pfalz. Dort wird er in kleinen Chargen hergestellt und abgefüllt.  Wir wollen mit SUBSTANZ DER STADT weitere regionale Produkte entwickeln\, um mit deren Einnahmen unser Projekt zu finanzieren und andere lokale Institutionen zu unterstützen.    —    B.Y.O.B.  peace in progress\, against racism\, homophobia &amp; sexism.  
LOCATION:Rheinallee 87
URL:https://www.pengland.de/event/hfs-m-dsg-lichtinstallation-hfs-live-x-substanz-der-stadt/
END:VEVENT
END:VCALENDAR