BEGIN:VCALENDAR
VERSION:2.0
PRODID:-//PENG - Gesellschaft zur Förderung von Design, Kunst und Kommunikation//NONSGML v1.0//EN
CALSCALE:GREGORIAN
METHOD:PUBLISH
X-WR-CALNAME:PENG - Gesellschaft zur Förderung von Design, Kunst und Kommunikation
X-ORIGINAL-URL:https://www.pengland.de
X-WR-CALDESC:Events for PENG - Gesellschaft zur Förderung von Design, Kunst und Kommunikation
BEGIN:VEVENT
DTSTART;VALUE=DATE:20190629
DTEND;VALUE=DATE:20190630
DTSTAMP:20260422T125807
CREATED:20190612T182848
LAST-MODIFIED:20190619T204945
UID:25045@https://www.pengland.de
SUMMARY:HeART Music Festival // Open Air [1 DAY Festival]
DESCRIPTION:Arteria Gallery presents    × LOCATION: Wuth'sche Brauerei  // Wiesbaden  https://goo.gl/maps/86L2wQo1xFiL3Kgc9    × Musik\, Progressive Ideen\, Kunst\, Performances\, Poetry    Zwischen Mainz und Wiesbaden und reichlich Grün gelegen\, liefert die alte Wuth'sche Brauerei den idealen Ort für eine versteckte Tanzfläche\, ein Amphitheater\, Installationen und eine ganztägige Vielzahl an Acts unter der Sonne und dem Sternenhimmel.    Im Programm:  Main Stage - Amphitheater &amp; Dancefloor  DJ Deck - im Inneren der Brauerei  Art &amp; Craft - live Performances\, Workshops &amp; Verkauf    TICKETS?    VVK:  11\,-€  ÜBER EVENTIM &amp; allen VVK Stellen deiner Stadt    ODER:  AK:  17\,-€    ANFAHRT??    Bus: 33\,28           -           Haltestelle: Ferdinand Knettenbrech Weg  Bus: 6\, 33\, 39      -           Haltestelle: Biebrich Bahnhof Wiesbaden Ost  S-Bahn: S1\, S8\, S9     -    Haltestelle: Biebrich Bahnhof Wiesbaden Ost  S-Bahn: S35133         -     Haltestelle: Ostbahnhof    LINE UP    ×       Zwiebelgeschmack (DE) // Post-ironischer Trash Folk  https://www.youtube.com/watch?v=M7DH6zioaEc    ×       Sunshine Avenue (DE) // Rock\, Pop    ×       Krabbel di Schlabbel (DE) // Rock  https://soundcloud.com/krabbeldischlabbel/sets/krabbel-di-schnabbel-debut    ×       DCK - D'ChefKoch (DE) // Hip Hop\, Rap  https://soundcloud.com/user-17543730  https://m.soundcloud.com/dchefkoch    ×       MystikStyles (USA)  // Hip Hop\, Rap  https://www.youtube.com/watch?v=E43_tgUugpo    ×       Isleofbeats (DE) // Hip Hop\, Beats  https://www.youtube.com/watch?v=Vq6NCb_lLS4    ×       ERNA (DE) //  Pop-Rock\, Acoustic\, Dreamy Jazz  https://www.youtube.com/watch?v=xO2SAd3CJsI    ×       DJ KEON (BA) // Techno\, House\, Minimal\, Tech  https://soundcloud.com/dj-keon/    ×       Drag Queen Dennis (DE) // Cabaret    ×       Renard Yearby (USA) // Poetry  https://www.youtube.com/user/RYEARBYBADBOY2    ×        Martin Reichmann (DE) // Deep House  https://soundcloud.com/martinreichmann  https://www.facebook.com/MReichmann/    ×       Daniel Diefenbach (DE) // Minimal House\, Wave\, 80's  https://www.facebook.com/DanielDiefenbachDJ/  https://soundcloud.com/danieldiefenbach    ×        Daniel Vargas (DE) //  Minimal\, Techno\, House  https://soundcloud.com/daniel-vargas-ro    ×        Leonie Magdalena (DE) // Deep House\, Tech-House\, Techno  https://www.facebook.com/leoniemagdalena.ffm/  https://www.mixcloud.com/leoniemagdalena/    ×        DJ Klinque (DE) // Minimal\, Deep House\, House  https://www.facebook.com/DJ-Klinque-2319105371667495  https://www.mixcloud.com/Klinque/    UVM.    MORE INFO :  www.galleryarteria.com/heartmusicfestival  ------    ×ART  ×MUSIC  ×CRAFT  ×PERFORMANCE  ×DRINKS  ×FOOD  ×DANCE  ×FUN  ×LOVE  ×NATURE
LOCATION:Wuthsche Brauerei 1
URL:https://www.pengland.de/event/heart-music-festival/
END:VEVENT
END:VCALENDAR