BEGIN:VCALENDAR
VERSION:2.0
PRODID:-//PENG - Gesellschaft zur Förderung von Design, Kunst und Kommunikation//NONSGML v1.0//EN
CALSCALE:GREGORIAN
METHOD:PUBLISH
X-WR-CALNAME:PENG - Gesellschaft zur Förderung von Design, Kunst und Kommunikation
X-ORIGINAL-URL:https://www.pengland.de
X-WR-CALDESC:Events for PENG - Gesellschaft zur Förderung von Design, Kunst und Kommunikation
BEGIN:VEVENT
DTSTART;VALUE=DATE:20190705
DTEND;VALUE=DATE:20190707
DTSTAMP:20260422T130853
CREATED:20190619T204147
LAST-MODIFIED:20190619T204337
UID:25109@https://www.pengland.de
SUMMARY:›Erótique‹ – objects of desire
DESCRIPTION:    Als Verschmelzung der Begriffe „Eros“ und „Boutique“ soll der Titel  der Ausstellung jedoch nicht in Hinweis darauf sein\, dass man hier  Sexspielzeuge kaufen soll - vielmehr erwarten die Besucher hier erotisch  in Szene gesetzte Skulpturen. Nikola Scheibe spielt in ihrer  Hochschul-Abschlussarbeit mit der Sinneswahrnehmung der Zuschauer und  erzeugt zuweilen irritierend lustvolle Assoziationen…    enthüllen\, betrachten\, berühren\, wagen\, herausfordern\, übertreten\, entdecken\, erleben … Lust?    Passend zum Thema zeigen Schmitt&amp;Schulz am Eröffnungsabend auf  der Bühne eine Dauerperformance-Improvisation im Rahmen ihrer Reihe  nonstoponstage\, wie man sie sonst regelmäßig unter dem  Veranstaltungs-Label Watch&amp;Eat sehen kann.    Vernissage: Freitag\, 5. Juli\, 18 - 23 Uhr  18 Uhr Einführung &amp; Ausstellungsbeginn  19 - 22 Uhr Performance    Finissage: Samstag\, 6. Juli\, 17 - 22 Uhr  Ausstellung                      performance art depot Leibnizstr. 46 55118 Mainz www.pad-mainz.de  Der Eintritt ist frei\, wir freuen uns über Spenden.
LOCATION:Leibnizstr. 46
URL:https://www.pengland.de/event/erotique-objects-of-desire/
END:VEVENT
END:VCALENDAR