BEGIN:VCALENDAR
VERSION:2.0
PRODID:-//PENG - Gesellschaft zur Förderung von Design, Kunst und Kommunikation//NONSGML v1.0//EN
CALSCALE:GREGORIAN
METHOD:PUBLISH
X-WR-CALNAME:PENG - Gesellschaft zur Förderung von Design, Kunst und Kommunikation
X-ORIGINAL-URL:https://www.pengland.de
X-WR-CALDESC:Events for PENG - Gesellschaft zur Förderung von Design, Kunst und Kommunikation
BEGIN:VEVENT
DTSTART;VALUE=DATE-TIME:20190713T180000
DTEND;VALUE=DATE-TIME:20190714T050000
DTSTAMP:20260422T125859
CREATED:20190706T204434
LAST-MODIFIED:20190713T191204
UID:25142@https://www.pengland.de
SUMMARY:Eröffnungsfeier von PENG 10
DESCRIPTION:Hallihallo! Genug pausiert. Pengland Neuland ist hergerichtet. Am 13. Juli wird das (groß) zelebriert.    Bedingungslose Grunderöffnung am Samstag\, 13. Juli\, 18 bis 08 Uhr    Das alte Jobcenter wird zu Pengland 10. Mindestens bis Oktober 2019. Am Rodelberg 21\, in bzw. empor der Mainzer Oberstadt.    (Flyer-Gestaltung: Dajana Jasarevic)    Party|Ausstellung|Konzerte|Lesungen|  13.07.2019 im neuen Pengland\, Am Rodelberg 21\, dem alten Jobcenter Mainz.    Genug pausiert. Pengland Neuland ist bald hergerichtet. Das wird durch unsere "Bedingungslose Grunderöffnung" den gesamten Abend und die ganze Nacht lang (groß) zelebriert. Auch unsere Mitbewohnerin\, die Bike Kitchen Mainz\, wird mit am Start sein.    |AUSSTELLUNG|  Manu - Aquarelle  Dornhoefer Photography - Photographische Portraits  Kai Dreistadt - Schwarzlicht Kunst    ++LINE UP++    |SINGER SONGWRITER|  Daria &amp; Mo  Malte  Niki &amp; YAO    |FUNK|  Dionysus 94  Fresh Pots    |ELEKTRO|  Electric Conzertration [http://electric-conzertration.de]    |60's Psych/ Proto Punk/ Synth Pop|  Pompe    |TECHNO|  Nananaked  [https://soundcloud.com/user-958060661]  Kai  Cesare &amp; matt k  Astroturf  Dj Spock [https://soundcloud.com/dj-spock-ffm]  IAS  Jan Wiechers  Marius Tasman    |F U C H S B A U • M A I N Z &amp; Mach Mal Langsam|  Jonas Hühne[https://soundcloud.com/jonas_huehne/tracks]  Rainer Rauch [https://soundcloud.com/rainerrauch]  Bianco [https://soundcloud.com/bianco-dj]  Tuga.tunes  Ivo Total [https://soundcloud.com/ivotop]  Eddy Hernandez [https://soundcloud.com/deep-global]    |DRUM AND BASS|  Malte Montana [https://soundcloud.com/maltemontana]  Dubbing Panda    |HIPHOP|  Oliver Sport [https://www.youtube.com/watch?v=L1HG54172yQ]    |LESUNG|  Max Rohland &amp; Gabor Kovacs "Kafka - die Verwandlung"  Max Rohland "Alice im Wunderland" [http://maxrohland.de/]    ///////////    Tatsächlich hatten wir letzte Woche schon Besuch von wilden Partygästen... Leider eine Woche zu früh. Trotzdem zeigen sie euch gerne den Weg von der Haltestelle Pariser Tor in das neue Pengland: https://www.youtube.com/watch?v=FNzMe1aazXI&amp;feature=youtu.be&amp;fbclid=IwAR1z8D3Frae4P6gr0QUw4WBup7nCf2J7-SY07dM1nbRvrq8JRqu0gaVcTbA    Wie kommt man eigentlich ins neue Pengland? Wenn ihr mit dem Bus oder dem SEV an der Haltestelle Pariser Tor ankommt\, folgt ihr dem Straßenverlauf Richtung Berliner Siedlung. Schnell werdet ihr an einem Parkplatz ankommen\, der durch ein große Reklame Tafel markiert ist. Ihr geht über diesen Parkplatz\, bis ans Ende. Auf der linken Seite findet ihr diese Treppe\, sie ist die Pforte in unser Paralleluniversum namens Pengland. Im Dunkeln wird sie beleuchtet sein.
LOCATION:Am Rodelberg 21
URL:https://www.pengland.de/event/eroffnungsfeier-von-peng-10/
END:VEVENT
END:VCALENDAR