BEGIN:VCALENDAR
VERSION:2.0
PRODID:-//PENG - Gesellschaft zur Förderung von Design, Kunst und Kommunikation//NONSGML v1.0//EN
CALSCALE:GREGORIAN
METHOD:PUBLISH
X-WR-CALNAME:PENG - Gesellschaft zur Förderung von Design, Kunst und Kommunikation
X-ORIGINAL-URL:https://www.pengland.de
X-WR-CALDESC:Events for PENG - Gesellschaft zur Förderung von Design, Kunst und Kommunikation
BEGIN:VEVENT
DTSTART;VALUE=DATE:20240929
DTEND;VALUE=DATE:20240930
DTSTAMP:20260420T194913
CREATED:20240926T205502
LAST-MODIFIED:20240926T205633
UID:26618@https://www.pengland.de
SUMMARY:Einladung zur PENG Mitgliederversammlung 2024
DESCRIPTION:Datum: So. 29. September 2024  Zeit: 16:00 Uhr   Ort: Mombacher Str. 55 (Hinterhof)\,  55122 Mainz  Sollten zu diesem Termin nicht die erforderlichen 30 % der Mitglieder anwesend sein (derzeit etwa 20 Personen)\, wird gemäß § 5 Abs. 6 unserer Satzung eine erneute Einladung ausgesprochen. Der Ersatztermin findet nicht am selben Tag statt\, sondern wird nach Feststellung der Beschlussunfähigkeit separat einberufen.                  Vorläufige Tagesordnung:                                  1. Feststellung der Beschlussfähigkeit der Mitgliederversammlung  2.1 Entgegennahme der Jahresberichte  2.2 Art der Entlastung des aktuellen Vorstandes (gemeinsam/getrennt)  2.3 Entlastung des Vorstandes  3.1 Festsetzung der Vorstandgröße  3.2 Wahl des neuen Vorstandes  4. Sonstiges (aktuelle Lage\, etc.)                                Anträge zur Satzungsänderung:                                    1. Anträge auf Erweiterung von §6. Begründung: Vereinfachung der Wahlen und Regelung der Sonderformen.     Antrag auf Erweiterung von §6: 8. Beschlussfassungen und Wahlen erfolgen offen.   Antrag auf Erweiterung von §6: 9. Blockwahlen sind zulässig.   Antrag auf Erweiterung von §6: 10. Die Mitgliederversammlung kann abweichende Verfahren beschließen.   Antrag auf Erweiterung von §6: 11. Vollmachten und Boten sind zulässig.   Antrag auf Erweiterung von §6: 12. Vollmachten und Boten sind nicht zulässig.    2. Antrag auf Korrektur von §6.3. Begründung: Fristen können schnell verpeilt werden oder bremsen.     Antrag auf Korrektur von §6.3. Satz 1 wird "wird" durch "soll...werden" ersetzt. „Zur Mitgliederversammlung soll vom Vereinsvorstand unter Angabe der vorläufigen Tagesordnung mindestens vier Wochen vorher schriftlich eingeladen werden. Sie tagt so oft es erforderlich ist\, in der Regel einmal im Jahr.“                                    Vielen Dank für deine Unterstützung und Engagement!  Dein PENG!&nbsp;    Falls Du keine Mail erhalten hast melde dich unter:  kasse@pengland.de    Unsere Vereinssatzung findest du hier:  pengland.de/satzung                    &nbsp;
LOCATION:Mombacher Str. 55 (Hinterhof)
URL:https://www.pengland.de/event/einladung-zur-peng-mitgliederversammlung-2024/
END:VEVENT
END:VCALENDAR