BEGIN:VCALENDAR
VERSION:2.0
PRODID:-//PENG - Gesellschaft zur Förderung von Design, Kunst und Kommunikation//NONSGML v1.0//EN
CALSCALE:GREGORIAN
METHOD:PUBLISH
X-WR-CALNAME:PENG - Gesellschaft zur Förderung von Design, Kunst und Kommunikation
X-ORIGINAL-URL:https://www.pengland.de
X-WR-CALDESC:Events for PENG - Gesellschaft zur Förderung von Design, Kunst und Kommunikation
BEGIN:VEVENT
DTSTART;VALUE=DATE:20190614
DTEND;VALUE=DATE:20190701
DTSTAMP:20260422T120438
CREATED:20190613T214103
LAST-MODIFIED:20190613T214208
UID:25051@https://www.pengland.de
SUMMARY:Dr. Treznok im Eisenturm
DESCRIPTION:Dr.Treznok\, seit 1992 lebhaft in Mainz\, präsentiert sein “Institut für angewandte Linguistiq” im Kunstverein Eisenturm. Zu sehen gibt es Layouts\, Copy-Art und Handpressendrucke\, zu lesen gibt es sein lyrisches Frühwerk sowie das zwischen 2010 bis 2018 im Eisenturm entstandene Werk “Verwortungen”.    Außerdem ist während der kompletten Ausstellungsdauer das  “Flaschenpostamt” aufgebaut und es besteht die Möglichkeit\, an einer  “telepathischen Schreybung” teilzunehmen. Dr. Treznok ist zu allen  Ausstellungszeiten anwesend.    Vernissage: Freitag\, 14. Juni\, 19 Uhr  Begrüßung: Karin Böpple  Ausstellungsdauer: 15. – 30. Juni 2019  Öffnungszeiten: Sa + So 13 – 17 Uhr\, Mi 16 – 18 Uhr        &nbsp;
LOCATION:
URL:https://www.pengland.de/event/dr-treznok-im-eisenturm/
END:VEVENT
END:VCALENDAR