BEGIN:VCALENDAR
VERSION:2.0
PRODID:-//PENG - Gesellschaft zur Förderung von Design, Kunst und Kommunikation//NONSGML v1.0//EN
CALSCALE:GREGORIAN
METHOD:PUBLISH
X-WR-CALNAME:PENG - Gesellschaft zur Förderung von Design, Kunst und Kommunikation
X-ORIGINAL-URL:https://www.pengland.de
X-WR-CALDESC:Events for PENG - Gesellschaft zur Förderung von Design, Kunst und Kommunikation
BEGIN:VEVENT
DTSTART;VALUE=DATE:20190626
DTEND;VALUE=DATE:20190629
DTSTAMP:20260422T125629
CREATED:20190522T214850
LAST-MODIFIED:20190522T214850
UID:25002@https://www.pengland.de
SUMMARY:Anthropology of Music Lecture Series
DESCRIPTION:Vom 26. bis 28. Juni finden die Anthropology of Music Lecture  Series des ethnologischen Instituts der Johannes Gutenberg Universität an verschiedenen Orten statt.        Weitere Informationen: https://anthropologyofmusic.com/?page_id=170
LOCATION:Karoline-Stern-Platz 
URL:https://www.pengland.de/event/anthropology-of-music-lecture-series/
END:VEVENT
END:VCALENDAR