BEGIN:VCALENDAR
VERSION:2.0
PRODID:-//PENG - Gesellschaft zur Förderung von Design, Kunst und Kommunikation//NONSGML v1.0//EN
CALSCALE:GREGORIAN
METHOD:PUBLISH
X-WR-CALNAME:PENG - Gesellschaft zur Förderung von Design, Kunst und Kommunikation
X-ORIGINAL-URL:https://www.pengland.de
X-WR-CALDESC:Events for PENG - Gesellschaft zur Förderung von Design, Kunst und Kommunikation
BEGIN:VEVENT
DTSTART;VALUE=DATE:20161021
DTEND;VALUE=DATE:20161124
DTSTAMP:20260421T165311
CREATED:20161002T154806
LAST-MODIFIED:20161002T154806
UID:20672@https://www.pengland.de
SUMMARY:All das Schöne (DSE)
DESCRIPTION:All das Schöne (DSE) Duncan Macmillan mit Jonny Donahoe     Wie reagiert man als Kind auf den Selbstmordversuch seiner Mutter? Man schreibt ihr eine Liste mit all dem\, was an der Welt schön ist: 1. Eiscreme\, 2. Wasserschlachten … Man hofft\, dass die Mutter die Liste wirklich liest (und nicht bloß die Rechtschreibfehler korrigiert)\, dass ihre Depression aufhört und das Leben weitergeht. Tut es auch. Aber nicht alles wird automatisch gut. Nicht jetzt\, nicht später\, da man selbst erwachsen ist\, sich verliebt und vielleicht sogar über eigene Kinder nachdenkt. Immer wieder lauert da eine seltsame Traurigkeit\, gibt es peinliche Situationen und Verletzungen. Nur die Liste ist im Lauf der Jahre angewachsen und nähert sich der Million: 999.998. Unpassende Songs in gefühlvollen Momenten\, 999.999. Eine Aufgabe abschließen …    Eine Bar\, gute Musik\, ein Schauspieler und das Publikum\, was braucht man mehr\, um dieses „umwerfend komische Stück über Depression – das womöglich eines der komischsten Stücke überhaupt ist“ (The Guardian) zum Leben zu erwecken?    Einlass: 19:30 Uhr  Beginn: 20:00 Uhr    LINK: http://www.staatstheater-mainz.com/web/veranstaltungen/schauspiel1617/alldasschoene    
LOCATION:Zanggasse 36
URL:https://www.pengland.de/event/all-das-schone-dse/
END:VEVENT
END:VCALENDAR