BEGIN:VCALENDAR
VERSION:2.0
PRODID:-//PENG - Gesellschaft zur Förderung von Design, Kunst und Kommunikation//NONSGML v1.0//EN
CALSCALE:GREGORIAN
METHOD:PUBLISH
X-WR-CALNAME:PENG - Gesellschaft zur Förderung von Design, Kunst und Kommunikation
X-ORIGINAL-URL:https://www.pengland.de
X-WR-CALDESC:Events for PENG - Gesellschaft zur Förderung von Design, Kunst und Kommunikation
BEGIN:VEVENT
DTSTART;VALUE=DATE:20160324
DTEND;VALUE=DATE:20160329
DTSTAMP:20260422T081318
CREATED:20160322T020514
LAST-MODIFIED:20160327T210617
UID:19714@https://www.pengland.de
SUMMARY:Fotoausstellung von Jonas Otte
DESCRIPTION:[caption id="attachment_19716" align="alignleft" width="693" caption="Zur Neueröffnung"][/caption]    Fr 10-14h | Sa 10-17h | So &amp; Mo 12-17h | ERÖFFNUNG: DO\, 24. März um 20h    http://www.youtube.com/watch?v=1zeV9E9U2Ro&amp;feature=youtu.be
LOCATION:
URL:https://www.pengland.de/event/19714/
END:VEVENT
END:VCALENDAR