BEGIN:VCALENDAR
VERSION:2.0
PRODID:-//PENG - Gesellschaft zur Förderung von Design, Kunst und Kommunikation//NONSGML v1.0//EN
CALSCALE:GREGORIAN
METHOD:PUBLISH
X-WR-CALNAME:PENG - Gesellschaft zur Förderung von Design, Kunst und Kommunikation
X-ORIGINAL-URL:https://www.pengland.de
X-WR-CALDESC:Events for PENG - Gesellschaft zur Förderung von Design, Kunst und Kommunikation
BEGIN:VEVENT
DTSTART;VALUE=DATE:20130802
DTEND;VALUE=DATE:20130810
DTSTAMP:20260422T081551
CREATED:20130626T210720
LAST-MODIFIED:20131202T160527
UID:12000@https://www.pengland.de
SUMMARY:06. KinoKabaret in Mainz
DESCRIPTION:Vom  2. bis zum 9. August ist KinoKabaretZeit in Mainz.   Wir freuen uns auf  unser 6. internationales KinoKabaret\, das dieses Jahr drei Runden haben  wird (48h / 72h / 48h).        Das Lab wird wieder im Haus der Jugend  sein und nach jeder Runde geht’s wie gewohnt ins Palatin Kino\, um die  Filme zusammen mit dem Publikum auf der großen Leinwand zu sehen.    Mitmachen kann jeder. Egal\, ob ihr schon Erfahrung habt oder kompletter  Neuling seid. Wir suchen Kameraleute\, Regisseure\, Drehbuchschreiber\,  Musiker\, Schauspieler – einfach jeden\, der Lust hat einen Film zu  drehen.    Wir bieten euch einen Raum\, in dem Interesse\, Know-How\,  Technik und Leidenschaft aufeinander treffen und euch die Möglichkeit  geben\, euch auszuprobieren. Es geht darum Leute zu treffen\, Ideen  umzusetzen und Filme auf die Beine zu stellen. Innerhalb von 48 Stunden  konzipiert\, dreht und schneidet ihr euren Film. Dann werdet ihr mit  eurer eigenen KinoPremiere belohnt.    Weitere Informationen und das Anmeldeformular findet ihr auf unserer Website www.kinomainz.org    Veranstaltung auf Facebook.    Wir freuen uns auf euch!  Euer KinoMainz
LOCATION:Mitternachtsgasse 8
URL:https://www.pengland.de/event/06-kinokabaret-in-mainz/
END:VEVENT
END:VCALENDAR